BEGIN:VCALENDAR
VERSION:2.0
PRODID:-//CEEI Valencia//EmprenemJunts//ES
BEGIN:VEVENT
UID:Evento_10783
DTSTAMP:20160526T112916Z
DTSTART:20160602T114500Z
DTEND:20160602T150000Z
SUMMARY:Encuentro con Paqui Méndez
DESCRIPTION:
LOCATION:Valencia
URL:https://ceeivalencia.emprenemjunts.es/?op=14&n=10783
END:VEVENT
END:VCALENDAR
