BEGIN:VCALENDAR
VERSION:2.0
PRODID:-//Management//EmprenemJunts//ES
BEGIN:VEVENT
UID:Evento_10929
DTSTAMP:20160628T104537Z
DTSTART:20160707T150000Z
DTEND:20160707T180000Z
SUMMARY:Workshop protocolo e imagen en los negocios
DESCRIPTION:No todos los que cuidan su imagen son líderes, pero todos los líderes deciden crear su imagen
LOCATION:VALENCIA
URL:https://management.emprenemjunts.es/?op=14&n=10929
END:VEVENT
END:VCALENDAR
