BEGIN:VCALENDAR
VERSION:2.0
PRODID:-//Focus Pyme y Emprendimiento//EmprenemJunts//ES
BEGIN:VEVENT
UID:Evento_11248
DTSTAMP:20161013T063741Z
DTSTART:20161103T133000Z
DTEND:20161103T143000Z
SUMMARY:Emprender innovando, Innovar emprendiendo
DESCRIPTION:
LOCATION:Alacant/Alicante (Alicante)
URL:https://focuspyme.emprenemjunts.es/?op=14&n=11248
END:VEVENT
END:VCALENDAR
