BEGIN:VCALENDAR
VERSION:2.0
PRODID:-//Focus Pyme y Emprendimiento//EmprenemJunts//ES
BEGIN:VEVENT
UID:Evento_11271
DTSTAMP:20161014T093105Z
DTSTART:20161103T123000Z
DTEND:20161103T131500Z
SUMMARY:Proyectos de Economía Circular con participación regional valenciana.INTERREG
DESCRIPTION:TRIS (simbiosis industrial), SAMT SUDOE (fabricación aditiva o 3D) y SHCity (cascos urbanos históricos)
LOCATION:Alacant/Alicante (Alicante)
URL:https://focuspyme.emprenemjunts.es/?op=14&n=11271
END:VEVENT
END:VCALENDAR
