BEGIN:VCALENDAR
VERSION:2.0
PRODID:-//Focus Pyme y Emprendimiento//EmprenemJunts//ES
BEGIN:VEVENT
UID:Evento_11276
DTSTAMP:20161014T110158Z
DTSTART:20161103T133000Z
DTEND:20161103T143000Z
SUMMARY:De Startup a Pyme, un camino no siempre fácil
DESCRIPTION:
LOCATION:Alacant/Alicante (Alicante)
URL:https://focuspyme.emprenemjunts.es/?op=14&n=11276
END:VEVENT
END:VCALENDAR
