BEGIN:VCALENDAR
VERSION:2.0
PRODID:-//Focus Pyme y Emprendimiento//EmprenemJunts//ES
BEGIN:VEVENT
UID:Evento_11282
DTSTAMP:20161017T140651Z
DTSTART:20161103T110000Z
DTEND:20161103T130000Z
SUMMARY:LA COLMENA: EL NUEVO NETWORKING QUE TE GARANTIZA RESULTADOS
DESCRIPTION:
LOCATION:Alacant/Alicante (Alicante)
URL:https://focuspyme.emprenemjunts.es/?op=14&n=11282
END:VEVENT
END:VCALENDAR
