BEGIN:VCALENDAR
VERSION:2.0
PRODID:-//CEEI Alcoy//EmprenemJunts//ES
BEGIN:VEVENT
UID:Evento_11434
DTSTAMP:20161114T115525Z
DTSTART:20161214T183000Z
DTEND:20161214T200000Z
SUMMARY:Taller:Cómo pueden aprovechar fabricantes y distribuidores el ecommerce para mejorar su negocio
DESCRIPTION:Soluciones ecommerce enfocado a empresas B2B
LOCATION:Alcoi/Alcoy (Alicante)
URL:https://ceeialcoi.emprenemjunts.es/?op=14&n=11434
END:VEVENT
END:VCALENDAR
