BEGIN:VCALENDAR
VERSION:2.0
PRODID:-//CEEI Castellón//EmprenemJunts//ES
BEGIN:VEVENT
UID:Evento_11529
DTSTAMP:20161212T164210Z
DTSTART:20161221T090000Z
DTEND:20161221T110000Z
SUMMARY:Talento y Empleo - AdministraciÃ³n, gestiÃ³n, comercio y marketing
DESCRIPTION:El mercado laboral hoy y las tendencias de futuro
LOCATION:Vila-real (CastellÃ³n)
URL:https://ceeicastellon.emprenemjunts.es/?op=14&n=11529
END:VEVENT
END:VCALENDAR
