BEGIN:VCALENDAR
VERSION:2.0
PRODID:-//CEEI Castellón//EmprenemJunts//ES
BEGIN:VEVENT
UID:Evento_11530
DTSTAMP:20161212T164543Z
DTSTART:20161221T150000Z
DTEND:20161221T160000Z
SUMMARY:Talento y Empleo Â– Actividades fÃ­sicas y deportivas
DESCRIPTION:El mercado laboral hoy y las tendencias de futuro
LOCATION:Vila-real (CastellÃ³n)
URL:https://ceeicastellon.emprenemjunts.es/?op=14&n=11530
END:VEVENT
END:VCALENDAR
