BEGIN:VCALENDAR
VERSION:2.0
PRODID:-//CEEI Valencia//EmprenemJunts//ES
BEGIN:VEVENT
UID:Evento_11761
DTSTAMP:20170220T095309Z
DTSTART:20170222T153000Z
DTEND:20170222T183000Z
SUMMARY:SEMINARIO \"START-UPS VALENCIANAS\"
DESCRIPTION:MASTER EI UV
LOCATION:Valencia (Valencia)
URL:https://ceeivalencia.emprenemjunts.es/?op=14&n=11761
END:VEVENT
END:VCALENDAR
