BEGIN:VCALENDAR
VERSION:2.0
PRODID:-//Focus Pyme y Emprendimiento//EmprenemJunts//ES
BEGIN:VEVENT
UID:Evento_12362
DTSTAMP:20170726T075250Z
DTSTART:20170928T103000Z
DTEND:20170928T111500Z
SUMMARY:Cómo la utilización de los datos abiertos puede impactar en la productividad de tu empresa
DESCRIPTION:Área Focus Pyme
LOCATION:Castelló de la Plana/Castellón de la Plana (Castellón)
URL:https://focuspyme.emprenemjunts.es/?op=14&n=12362
GEO:39.993362;-0.023827
END:VEVENT
END:VCALENDAR
