BEGIN:VCALENDAR
VERSION:2.0
PRODID:-//Focus Pyme y Emprendimiento//EmprenemJunts//ES
BEGIN:VEVENT
UID:Evento_12368
DTSTAMP:20170726T164616Z
DTSTART:20170928T073000Z
DTEND:20170928T082000Z
SUMMARY:Emprender desde la especialización
DESCRIPTION:Área Focus Emprendimiento
LOCATION:Castelló de la Plana/Castellón de la Plana (Castellón)
URL:https://focuspyme.emprenemjunts.es/?op=14&n=12368
GEO:39.993362;-0.023827
END:VEVENT
END:VCALENDAR
