BEGIN:VCALENDAR
VERSION:2.0
PRODID:-//Focus Pyme y Emprendimiento//EmprenemJunts//ES
BEGIN:VEVENT
UID:Evento_12381
DTSTAMP:20170728T061133Z
DTSTART:20170928T093000Z
DTEND:20170928T102000Z
SUMMARY:Las tecnologías habilitadoras de la Industria 4.0.
DESCRIPTION:Área Focus Pyme
LOCATION:Castelló de la Plana/Castellón de la Plana (Castellón)
URL:https://focuspyme.emprenemjunts.es/?op=14&n=12381
GEO:39.993362;-0.023827
END:VEVENT
END:VCALENDAR
