BEGIN:VCALENDAR
VERSION:2.0
PRODID:-//Focus Pyme y Emprendimiento//EmprenemJunts//ES
BEGIN:VEVENT
UID:Evento_12442
DTSTAMP:20170824T104059Z
DTSTART:20170928T100000Z
DTEND:20170928T113000Z
SUMMARY:Networking encuentro experiencial
DESCRIPTION:Área Networking
LOCATION:Castelló de la Plana/Castellón de la Plana (Castellón)
URL:https://focuspyme.emprenemjunts.es/?op=14&n=12442
GEO:39.993362;-0.023827
END:VEVENT
END:VCALENDAR
