BEGIN:VCALENDAR
VERSION:2.0
PRODID:-//Focus Pyme y Emprendimiento//EmprenemJunts//ES
BEGIN:VEVENT
UID:Evento_12453
DTSTAMP:20170829T065624Z
DTSTART:20170928T083000Z
DTEND:20170928T092000Z
SUMMARY:Las claves del éxito en las empresas que innovan de la mano de las nuevas tecnologías
DESCRIPTION:Área Focus Pyme
LOCATION:Castelló de la Plana/Castellón de la Plana (Castellón)
URL:https://focuspyme.emprenemjunts.es/?op=14&n=12453
GEO:39.993362;-0.023827
END:VEVENT
END:VCALENDAR
