BEGIN:VCALENDAR
VERSION:2.0
PRODID:-//CEEI Castell髇//EmprenemJunts//ES
BEGIN:VEVENT
UID:Evento_12640
DTSTAMP:20171002T101132Z
DTSTART:20171024T143000Z
DTEND:20171024T160000Z
SUMMARY:Sesi贸n informativa sobre herramientas para emprendedores
DESCRIPTION:Motivaci贸n y creatividad en el Grado en Comunicaci贸n Audiovisual de la UJI
LOCATION:Castell贸 de la Plana/Castell贸n de la Plana (Castell贸n)
URL:https://ceeicastellon.emprenemjunts.es/?op=14&n=12640
GEO:39.994446;-0.068889
END:VEVENT
END:VCALENDAR
