BEGIN:VCALENDAR
VERSION:2.0
PRODID:-//CEEI Valencia//EmprenemJunts//ES
BEGIN:VEVENT
UID:Evento_13413
DTSTAMP:20180411T164004Z
DTSTART:20180508T140000Z
DTEND:20180517T180000Z
SUMMARY:Curso Gestión de Equipos y Productividad
DESCRIPTION:Curso de 16 horas dónde aprenderás a usar herramientas como Scrum y Trello
LOCATION:Paterna (Valencia)
URL:https://ceeivalencia.emprenemjunts.es/?op=14&n=13413
GEO:39.548115;-0.460775
END:VEVENT
END:VCALENDAR
