BEGIN:VCALENDAR
VERSION:2.0
PRODID:-//CEEI Castellón//EmprenemJunts//ES
BEGIN:VEVENT
UID:Evento_13549
DTSTAMP:20180511T080606Z
DTSTART:20180521T130000Z
DTEND:20181112T180000Z
SUMMARY:Curso: Activa tu tienda online. AcompaÃ±amiento en comercio electrÃ³nico, 44 horas
DESCRIPTION:CEDES Vall d\'Alba
LOCATION:Vall d\'Alba (CastellÃ³n)
URL:https://ceeicastellon.emprenemjunts.es/?op=14&n=13549
GEO:40.180798;-0.035323
END:VEVENT
END:VCALENDAR
