BEGIN:VCALENDAR
VERSION:2.0
PRODID:-//Desarrollo Local//EmprenemJunts//ES
BEGIN:VEVENT
UID:Evento_13643
DTSTAMP:20180528T152006Z
DTSTART:20180529T062000Z
DTEND:20180529T083000Z
SUMMARY:Sesión de Networking
DESCRIPTION:Club Empresarial de Networking de Castellón
LOCATION:Vila-real (Castellón)
URL:https://desarrollolocal.emprenemjunts.es/?op=14&n=13643
GEO:39.941589;-0.091058
END:VEVENT
END:VCALENDAR
