BEGIN:VCALENDAR
VERSION:2.0
PRODID:-//Desarrollo Local//EmprenemJunts//ES
BEGIN:VEVENT
UID:Evento_13644
DTSTAMP:20180528T155352Z
DTSTART:20180612T080000Z
DTEND:20180612T090000Z
SUMMARY:Taller: \"Tu motivación, tu éxito\"
DESCRIPTION:Descubre y domina tus dortalezas
LOCATION:Vila-real (Castellón)
URL:https://desarrollolocal.emprenemjunts.es/?op=14&n=13644
GEO:39.936729;-0.105555
END:VEVENT
END:VCALENDAR
