BEGIN:VCALENDAR
VERSION:2.0
PRODID:-//CEEI Valencia//EmprenemJunts//ES
BEGIN:VEVENT
UID:Evento_13680
DTSTAMP:20180607T152801Z
DTSTART:20180615T073000Z
DTEND:20180615T100000Z
SUMMARY:Jornada de Innovación y Competitividad Turística (València)
DESCRIPTION:Presentación de las ayudas 2018 a pymes turísticas para diagnósticos empresariales de innovación y competitividad.
LOCATION:Valencia (Valencia)
URL:https://ceeivalencia.emprenemjunts.es/?op=14&n=13680
GEO:39.471195;-0.374079
END:VEVENT
END:VCALENDAR
