BEGIN:VCALENDAR
VERSION:2.0
PRODID:-//CEEI Alcoy//EmprenemJunts//ES
BEGIN:VEVENT
UID:Evento_14246
DTSTAMP:20181024T145911Z
DTSTART:20181115T090000Z
DTEND:20181115T110000Z
SUMMARY:Innovación,  visión artificial y robótica aplicada en el proceso productivo
DESCRIPTION:Albert Ortega (Festo Aut.), Daniel Cavero (Kuka Iberia), Jordi Fuster (Doeet Software Mes) y Toni Albert (IOBI Aut.)
LOCATION:Alcoi/Alcoy (Alicante)
URL:https://ceeialcoi.emprenemjunts.es/?op=14&n=14246
GEO:38.694855;-0.476012
END:VEVENT
END:VCALENDAR
