BEGIN:VCALENDAR
VERSION:2.0
PRODID:-//CEEI Alcoy//EmprenemJunts//ES
BEGIN:VEVENT
UID:Evento_14249
DTSTAMP:20181024T150713Z
DTSTART:20181115T110000Z
DTEND:20181115T114500Z
SUMMARY:Café networking
DESCRIPTION:Amplia tu red de contactos
LOCATION:Alcoi/Alcoy (Alicante)
URL:https://ceeialcoi.emprenemjunts.es/?op=14&n=14249
GEO:38.694855;-0.476012
END:VEVENT
END:VCALENDAR
