BEGIN:VCALENDAR
VERSION:2.0
PRODID:-//CEEI Alcoy//EmprenemJunts//ES
BEGIN:VEVENT
UID:Evento_14254
DTSTAMP:20181025T090700Z
DTSTART:20181115T083000Z
DTEND:20181115T090000Z
SUMMARY:Acreditación y entrega documentación
DESCRIPTION:
LOCATION:Alcoi/Alcoy (Alicante)
URL:https://ceeialcoi.emprenemjunts.es/?op=14&n=14254
GEO:38.694855;-0.476012
END:VEVENT
END:VCALENDAR
