BEGIN:VCALENDAR
VERSION:2.0
PRODID:-//CEEI Valencia//EmprenemJunts//ES
BEGIN:VEVENT
UID:Evento_14255
DTSTAMP:20181025T100010Z
DTSTART:20181029T170000Z
DTEND:20181029T190000Z
SUMMARY:Jornada Digitalización para Pymes
DESCRIPTION:
LOCATION:Alzira (Valencia)
URL:https://ceeivalencia.emprenemjunts.es/?op=14&n=14255
GEO:39.151196;-0.436008
END:VEVENT
END:VCALENDAR
