BEGIN:VCALENDAR
VERSION:2.0
PRODID:-//CEEI Elche//EmprenemJunts//ES
BEGIN:VEVENT
UID:Evento_14350
DTSTAMP:20181109T142208Z
DTSTART:20181127T090000Z
DTEND:20181127T101500Z
SUMMARY:La gestión de personas en la 4º revolución industrial
DESCRIPTION:
LOCATION:Alacant/Alicante (Alicante)
URL:https://ceeielche.emprenemjunts.es/?op=14&n=14350
GEO:38.354393;-0.486447
END:VEVENT
END:VCALENDAR
