BEGIN:VCALENDAR
VERSION:2.0
PRODID:-//Desarrollo Local//EmprenemJunts//ES
BEGIN:VEVENT
UID:Evento_14366
DTSTAMP:20181112T172114Z
DTSTART:20181127T150000Z
DTEND:20181127T180000Z
SUMMARY:Mejora tu Comunicación 2.0 en redes sociales
DESCRIPTION:
LOCATION:Utiel (Valencia)
URL:https://desarrollolocal.emprenemjunts.es/?op=14&n=14366
GEO:39.567959;-1.204665
END:VEVENT
END:VCALENDAR
