BEGIN:VCALENDAR
VERSION:2.0
PRODID:-//CEEI Valencia//EmprenemJunts//ES
BEGIN:VEVENT
UID:Evento_14424
DTSTAMP:20181126T084632Z
DTSTART:20181205T080000Z
DTEND:20181205T130000Z
SUMMARY:Jornada sobre Empleabilidad y Emprendimiento para personal investigador
DESCRIPTION:
LOCATION:Valencia (Valencia)
URL:https://ceeivalencia.emprenemjunts.es/?op=14&n=14424
GEO:39.486626;-0.334041
END:VEVENT
END:VCALENDAR
