BEGIN:VCALENDAR
VERSION:2.0
PRODID:-//CEEI Alcoy//EmprenemJunts//ES
BEGIN:VEVENT
UID:Evento_14986
DTSTAMP:20190321T165023Z
DTSTART:20190506T123000Z
DTEND:20190506T143000Z
SUMMARY:Talleres de innovación comercial CCREA COMERÇ 2019
DESCRIPTION:En abril y mayo en Cocentaina
LOCATION:Cocentaina (Alicante)
URL:https://ceeialcoi.emprenemjunts.es/?op=14&n=14986
GEO:38.743969;-0.439625
END:VEVENT
END:VCALENDAR
