BEGIN:VCALENDAR
VERSION:2.0
PRODID:-//CEEI Castell髇//EmprenemJunts//ES
BEGIN:VEVENT
UID:Evento_15111
DTSTAMP:20190408T135931Z
DTSTART:20190417T160000Z
DTEND:20190424T160000Z
SUMMARY:La tecnolog铆a y la gesti贸n de la innovaci贸n en la empresa. Llleva tu marca al siglo XXI
DESCRIPTION:GRATUITO. FEVECTA CASTELLON.
LOCATION:Castell贸 de la Plana/Castell贸n de la Plana (Castell贸n)
URL:https://ceeicastellon.emprenemjunts.es/?op=14&n=15111
GEO:39.981682;-0.032620
END:VEVENT
END:VCALENDAR
