BEGIN:VCALENDAR
VERSION:2.0
PRODID:-//CEEI Castellón//EmprenemJunts//ES
BEGIN:VEVENT
UID:Evento_15197
DTSTAMP:20190424T065342Z
DTSTART:20190506T080000Z
DTEND:20190506T090000Z
SUMMARY:Networking CAFE-CREA - Serv. Emprendimiento
DESCRIPTION:Microcharla \"TUS DATOS: El petroleo del Siglo XXI\" by Atenea Legal
LOCATION:CastellÃ³ de la Plana/CastellÃ³n de la Plana (CastellÃ³n)
URL:https://ceeicastellon.emprenemjunts.es/?op=14&n=15197
GEO:39.971142;-0.082627
END:VEVENT
END:VCALENDAR
