BEGIN:VCALENDAR
VERSION:2.0
PRODID:-//CEEI Elche//EmprenemJunts//ES
BEGIN:VEVENT
UID:Evento_15269
DTSTAMP:20190507T090741Z
DTSTART:20190517T103000Z
DTEND:20190517T140000Z
SUMMARY:Visita & Almuerzo de Trabajo Clavei
DESCRIPTION:Avances tecnológicos
LOCATION:Elx/Elche (Alicante)
URL:https://ceeielche.emprenemjunts.es/?op=14&n=15269
END:VEVENT
END:VCALENDAR
