BEGIN:VCALENDAR
VERSION:2.0
PRODID:-//CEEI Castellón//EmprenemJunts//ES
BEGIN:VEVENT
UID:Evento_15401
DTSTAMP:20190524T112623Z
DTSTART:20190612T103100Z
DTEND:20190612T104500Z
SUMMARY:Experiencia 1: ReinvenciÃ³n en el mundo rural
DESCRIPTION:Teresa Blasco de Segortur SL y de Belluga Gourmet SL
LOCATION:Montanejos (CastellÃ³n)
URL:https://ceeicastellon.emprenemjunts.es/?op=14&n=15401
GEO:40.067139;-0.522229
END:VEVENT
END:VCALENDAR
