BEGIN:VCALENDAR
VERSION:2.0
PRODID:-//CEEI Castell髇//EmprenemJunts//ES
BEGIN:VEVENT
UID:Evento_15452
DTSTAMP:20190531T113732Z
DTSTART:20190603T080000Z
DTEND:20190603T093000Z
SUMMARY:Presentaci贸n Ayudas Municipales Ajuntament de Castell贸
DESCRIPTION:Apoyo a la ECONOMIA SOCIAL
LOCATION:Castell贸 de la Plana/Castell贸n de la Plana (Castell贸n)
URL:https://ceeicastellon.emprenemjunts.es/?op=14&n=15452
GEO:39.971142;-0.082627
END:VEVENT
END:VCALENDAR
