BEGIN:VCALENDAR
VERSION:2.0
PRODID:-//CEEI Valencia//EmprenemJunts//ES
BEGIN:VEVENT
UID:Evento_15512
DTSTAMP:20190612T155248Z
DTSTART:20190615T070000Z
DTEND:20190615T120000Z
SUMMARY:II Congreso del Bienestar Emocional y Personal
DESCRIPTION:Valencia, 15 de junio de 2019
LOCATION:Valencia (Valencia)
URL:https://ceeivalencia.emprenemjunts.es/?op=14&n=15512
END:VEVENT
END:VCALENDAR
