BEGIN:VCALENDAR
VERSION:2.0
PRODID:-//CEEI Valencia//EmprenemJunts//ES
BEGIN:VEVENT
UID:Evento_15597
DTSTAMP:20190710T113804Z
DTSTART:20190918T080000Z
DTEND:20190918T100000Z
SUMMARY:Claves de éxito para emprender
DESCRIPTION:Todo lo que necesitas saber antes de crear tu empresa
LOCATION:Paterna (Valencia)
URL:https://ceeivalencia.emprenemjunts.es/?op=14&n=15597
GEO:39.548115;-0.460775
END:VEVENT
END:VCALENDAR
