BEGIN:VCALENDAR
VERSION:2.0
PRODID:-//CEEI Elche//EmprenemJunts//ES
BEGIN:VEVENT
UID:Evento_15747
DTSTAMP:20190906T095729Z
DTSTART:20190926T080000Z
DTEND:20190927T120000Z
SUMMARY:INNOWELLNESS EL CAMPELLO
DESCRIPTION:Primer evento profesional del sector Wellness
LOCATION:El Campello (Alicante)
URL:https://ceeielche.emprenemjunts.es/?op=14&n=15747
GEO:38.426800;-0.396771
END:VEVENT
END:VCALENDAR
