BEGIN:VCALENDAR
VERSION:2.0
PRODID:-//CEEI Castellón//EmprenemJunts//ES
BEGIN:VEVENT
UID:Evento_15824
DTSTAMP:20190923T071149Z
DTSTART:20191007T080000Z
DTEND:20191007T090000Z
SUMMARY:Networking para emprendedor@s CAFE-CREA
DESCRIPTION:Micro-charla \"PROPUESTAS QUE ENAMORAN...A TUS CLIENTES\"   by MrAlf
LOCATION:CastellÃ³ de la Plana/CastellÃ³n de la Plana (CastellÃ³n)
URL:https://ceeicastellon.emprenemjunts.es/?op=14&n=15824
GEO:39.971142;-0.082627
END:VEVENT
END:VCALENDAR
