BEGIN:VCALENDAR
VERSION:2.0
PRODID:-//CEEI Castellón//EmprenemJunts//ES
BEGIN:VEVENT
UID:Evento_15827
DTSTAMP:20190923T075211Z
DTSTART:20191202T090000Z
DTEND:20191202T100000Z
SUMMARY:Networking para emprendedor@s CAFE-CREA
DESCRIPTION:Micro-charla Â“CAMBIA TU MUNDO. INNOVACIÃ“N SOCIAL EN EL EMPRENDIMIENTO\" con Foodration4all
LOCATION:CastellÃ³ de la Plana/CastellÃ³n de la Plana (CastellÃ³n)
URL:https://ceeicastellon.emprenemjunts.es/?op=14&n=15827
GEO:39.971142;-0.082627
END:VEVENT
END:VCALENDAR
