BEGIN:VCALENDAR
VERSION:2.0
PRODID:-//CEEI Valencia//EmprenemJunts//ES
BEGIN:VEVENT
UID:Evento_15885
DTSTAMP:20191003T123245Z
DTSTART:20191023T143000Z
DTEND:20191023T170000Z
SUMMARY:Foro Emprendimiento con Talento en Ademuz
DESCRIPTION:Evento de networking empresarial dirigido a pymes del Rincón de Ademuz
LOCATION:Ademuz (Valencia)
URL:https://ceeivalencia.emprenemjunts.es/?op=14&n=15885
GEO:40.064041;-1.285940
END:VEVENT
END:VCALENDAR
