BEGIN:VCALENDAR
VERSION:2.0
PRODID:-//CEEI Elche//EmprenemJunts//ES
BEGIN:VEVENT
UID:Evento_16213
DTSTAMP:20191125T083636Z
DTSTART:20191202T090000Z
DTEND:20191202T130000Z
SUMMARY:Sesión BIK SCALE ELCHE
DESCRIPTION:
LOCATION:Elx/Elche (Alicante)
URL:https://ceeielche.emprenemjunts.es/?op=14&n=16213
GEO:38.281338;-0.724342
END:VEVENT
END:VCALENDAR
