BEGIN:VCALENDAR
VERSION:2.0
PRODID:-//CEEI Elche//EmprenemJunts//ES
BEGIN:VEVENT
UID:Evento_16214
DTSTAMP:20191125T083838Z
DTSTART:20191204T090000Z
DTEND:20191204T130000Z
SUMMARY:Sesión BIK SCALE CIUDAD QUESADA
DESCRIPTION:
LOCATION:Rojales (Alicante)
URL:https://ceeielche.emprenemjunts.es/?op=14&n=16214
GEO:38.066860;-0.716647
END:VEVENT
END:VCALENDAR
