BEGIN:VCALENDAR
VERSION:2.0
PRODID:-//CEEI Elche//EmprenemJunts//ES
BEGIN:VEVENT
UID:Evento_16215
DTSTAMP:20191125T084019Z
DTSTART:20191205T090000Z
DTEND:20191205T130000Z
SUMMARY:Sesión BIK SCALE DENIA
DESCRIPTION:
LOCATION:Dénia (Alicante)
URL:https://ceeielche.emprenemjunts.es/?op=14&n=16215
GEO:38.838425;0.091945
END:VEVENT
END:VCALENDAR
