BEGIN:VCALENDAR
VERSION:2.0
PRODID:-//CEEI Valencia//EmprenemJunts//ES
BEGIN:VEVENT
UID:Evento_16333
DTSTAMP:20200110T093540Z
DTSTART:20200123T080000Z
DTEND:20200123T103000Z
SUMMARY:Desayuno IEM Peopleware: La parte humana de un equipo agile
DESCRIPTION:
LOCATION:Valencia (Valencia)
URL:https://ceeivalencia.emprenemjunts.es/?op=14&n=16333
GEO:39.475449;-0.384262
END:VEVENT
END:VCALENDAR
