BEGIN:VCALENDAR
VERSION:2.0
PRODID:-//CEEI Elche//EmprenemJunts//ES
BEGIN:VEVENT
UID:Evento_16750
DTSTAMP:20200401T083304Z
DTSTART:20200415T100000Z
DTEND:20200415T110000Z
SUMMARY:Diseño y análisis del Mapa de Stakeholders
DESCRIPTION:Webinar CEEI Elche
LOCATION:
URL:https://ceeielche.emprenemjunts.es/?op=14&n=16750
END:VEVENT
END:VCALENDAR
