BEGIN:VCALENDAR
VERSION:2.0
PRODID:-//CEEI Castellón//EmprenemJunts//ES
BEGIN:VEVENT
UID:Evento_16766
DTSTAMP:20200406T073917Z
DTSTART:20200406T215900Z
DTEND:20200517T215900Z
SUMMARY:FormaciÃ³n online gratuita: COMERCIO ELECTRÃ“NICO
DESCRIPTION:FEVECTA CASTELLON.
LOCATION:
URL:https://ceeicastellon.emprenemjunts.es/?op=14&n=16766
END:VEVENT
END:VCALENDAR
