BEGIN:VCALENDAR
VERSION:2.0
PRODID:-//CEEI Elche//EmprenemJunts//ES
BEGIN:VEVENT
UID:Evento_16860
DTSTAMP:20200422T172710Z
DTSTART:20200623T140000Z
DTEND:20200623T150000Z
SUMMARY:Encuentro Online de Coaching: \"El Café de los Martes\"
DESCRIPTION:Encuentros en red solidarios semanales para los apasionados del coaching
LOCATION:
URL:https://ceeielche.emprenemjunts.es/?op=14&n=16860
END:VEVENT
END:VCALENDAR
