BEGIN:VCALENDAR
VERSION:2.0
PRODID:-//CEEI Elche//EmprenemJunts//ES
BEGIN:VEVENT
UID:Evento_17029
DTSTAMP:20200518T114620Z
DTSTART:20200615T160000Z
DTEND:20200619T180000Z
SUMMARY:Estrategia mental de la motivación y su pauta explicativa
DESCRIPTION:
LOCATION:
URL:https://ceeielche.emprenemjunts.es/?op=14&n=17029
END:VEVENT
END:VCALENDAR
