BEGIN:VCALENDAR
VERSION:2.0
PRODID:-//CEEI Valencia//EmprenemJunts//ES
BEGIN:VEVENT
UID:Evento_17163
DTSTAMP:20200605T100149Z
DTSTART:20200610T080000Z
DTEND:20200610T110000Z
SUMMARY:Jornada online \"Aquí y ahora, Economía Circular\"
DESCRIPTION:Miércoles 10 de junio de 2020 / De 10:00h. a 13:00h. /
LOCATION:los inscritos recibirán el link de invitación
URL:https://ceeivalencia.emprenemjunts.es/?op=14&n=17163
END:VEVENT
END:VCALENDAR
