BEGIN:VCALENDAR
VERSION:2.0
PRODID:-//CEEI Alcoy//EmprenemJunts//ES
BEGIN:VEVENT
UID:Evento_17256
DTSTAMP:20200623T100913Z
DTSTART:20200727T130000Z
DTEND:20200727T150000Z
SUMMARY:Talleres de fomento y motivación empresarial en Cocentaina
DESCRIPTION:Aprovecha las oportunidades que ofrecen las redes sociales a tu empresa. Del 6 al 27 de julio
LOCATION:Cocentaina (Alicante)
URL:https://ceeialcoi.emprenemjunts.es/?op=14&n=17256
GEO:38.743969;-0.439625
END:VEVENT
END:VCALENDAR
